BEGIN:VCALENDAR
VERSION:2.0
PRODID:SchoolNow
CALSCALE:GREGORIAN
BEGIN:VEVENT
UID:2ec07c9c-3ab1-11f1-beea-0a58a9feac02
DTSTAMP:20260421T060508Z
SUMMARY:Afterschool Family Garden Event/Evento del jardín para la familia
URL;VALUE=URI:https://www.lahabraschools.org/laderapalma/calendar/9001695/a
 fterschool-family-garden-event-evento-del-jardin-para-la-familia
DTSTART:20260422T204500Z
DTEND:20260422T213000Z
END:VEVENT
END:VCALENDAR
