BEGIN:VCALENDAR
VERSION:2.0
PRODID:SchoolNow
CALSCALE:GREGORIAN
BEGIN:VEVENT
UID:2ec0821e-3ab1-11f1-b33f-0a58a9feac02
DTSTAMP:20260421T121009Z
SUMMARY:Kindergarten Caminata
LOCATION:Fullerton College\, 321 E Chapman Ave\, Fullerton\, CA 92832\, USA
URL;VALUE=URI:https://www.lahabraschools.org/laderapalma/calendar/9001696/k
 indergarten-caminata
DTSTART:20260424T160000Z
DTEND:20260424T200000Z
ATTACH;FILENAME=KinderCaminata 2026 Flyer.pdf;FMTTYPE=application/pdf:https
 ://drive.google.com/open?id=1A8Di0lVwXfp79DlnK64vYkLsinc5RGNl
END:VEVENT
END:VCALENDAR
