BEGIN:VCALENDAR
VERSION:2.0
PRODID:SchoolNow
CALSCALE:GREGORIAN
BEGIN:VEVENT
UID:2ec085ac-3ab1-11f1-abf1-0a58a9feac02
DTSTAMP:20260421T060508Z
SUMMARY:TK Field Trip/Paseo Escolar a Sonora Farms
URL;VALUE=URI:https://www.lahabraschools.org/laderapalma/calendar/9001697/t
 k-field-trip-paseo-escolar-a-sonora-farms
DTSTART:20260422T154500Z
DTEND:20260422T183000Z
END:VEVENT
END:VCALENDAR
