BEGIN:VCALENDAR
VERSION:2.0
PRODID:SchoolNow
CALSCALE:GREGORIAN
BEGIN:VEVENT
UID:2c6bf31c-3ae4-11f1-a8e4-0ed22a909e47
DTSTAMP:20260421T121009Z
SUMMARY:Trimester Awards
URL;VALUE=URI:https://www.lahabraschools.org/laderapalma/calendar/9002311/t
 rimester-awards
DTSTART;VALUE=DATE:20260513
DTEND;VALUE=DATE:20260514
END:VEVENT
END:VCALENDAR
