BEGIN:VCALENDAR
VERSION:2.0
PRODID:SchoolNow
CALSCALE:GREGORIAN
BEGIN:VEVENT
UID:2c6c139c-3ae4-11f1-9caa-0ed22a909e47
DTSTAMP:20260421T121009Z
SUMMARY:6th Grade Swap Meet and Car Show
URL;VALUE=URI:https://www.lahabraschools.org/laderapalma/calendar/9002312/6
 th-grade-swap-meet-and-car-show
DTSTART:20260425T170000Z
DTEND:20260425T210000Z
ATTACH;FILENAME=1.png;FMTTYPE=image/png:https://drive.google.com/open?id=1n
 ii1AATK5hv20f6ai7Rt69Daf6B86dbP
ATTACH;FILENAME=2.png;FMTTYPE=image/png:https://drive.google.com/open?id=1Y
 xQREIrxBaHaPU2B2K-sJeFyGI43JB5R
END:VEVENT
END:VCALENDAR
