BEGIN:VCALENDAR
VERSION:2.0
PRODID:SchoolNow
CALSCALE:GREGORIAN
BEGIN:VEVENT
UID:e7e819b6-cb11-11ea-881c-122882abe5c1
DTSTAMP:20200721T052035Z
SUMMARY:Reopening of Schools Virtual Town Hall Meeting
URL;VALUE=URI:https://www.lahabraschools.org/laslomas/calendar/2287846/reop
 ening-of-schools-virtual-town-hall-meeting
DTSTART:20200721T180000Z
DTEND:20200721T190000Z
END:VEVENT
END:VCALENDAR
