BEGIN:VCALENDAR
VERSION:2.0
PRODID:SchoolNow
CALSCALE:GREGORIAN
BEGIN:VEVENT
UID:3af96c12-8ecc-11f0-ad7d-0a58a9feac02
DTSTAMP:20251216T214542Z
SUMMARY:National Teacher's Day / Día Nacional del Maestro
URL;VALUE=URI:https://www.lahabraschools.org/laslomas/calendar/8607464/nati
 onal-teachers-day-dia-nacional-del-maestro
DTSTART;VALUE=DATE:20260505
DTEND;VALUE=DATE:20260506
END:VEVENT
END:VCALENDAR
