BEGIN:VCALENDAR
VERSION:2.0
PRODID:SchoolNow
CALSCALE:GREGORIAN
BEGIN:VEVENT
UID:27f95d62-033f-11ef-90e3-022a81125be5
DTSTAMP:20260421T211013Z
SUMMARY:Kindness shirts
URL;VALUE=URI:https://www.lahabraschools.org/sierravista/calendar/5856908/k
 indness-shirts
DTSTART;VALUE=DATE:20251224
DTEND;VALUE=DATE:20251225
END:VEVENT
END:VCALENDAR
