BEGIN:VCALENDAR
VERSION:2.0
PRODID:SchoolNow
CALSCALE:GREGORIAN
BEGIN:VEVENT
UID:63958ae2-0c9c-11ef-92b8-0a58a9feac02
DTSTAMP:20260421T211013Z
SUMMARY:Kindness shirts
URL;VALUE=URI:https://www.lahabraschools.org/sierravista/calendar/5930071/k
 indness-shirts
DTSTART;VALUE=DATE:20260107
DTEND;VALUE=DATE:20260108
END:VEVENT
END:VCALENDAR
