BEGIN:VCALENDAR
VERSION:2.0
PRODID:SchoolNow
CALSCALE:GREGORIAN
BEGIN:VEVENT
UID:d4af0a16-175d-11ef-8087-0affeb2506c1
DTSTAMP:20260421T211013Z
SUMMARY:Kindness shirts
URL;VALUE=URI:https://www.lahabraschools.org/sierravista/calendar/6005529/k
 indness-shirts
DTSTART;VALUE=DATE:20260121
DTEND;VALUE=DATE:20260122
END:VEVENT
END:VCALENDAR
