BEGIN:VCALENDAR
VERSION:2.0
PRODID:SchoolNow
CALSCALE:GREGORIAN
BEGIN:VEVENT
UID:9d0e5470-2385-11ef-b5b3-0298fd9e9343
DTSTAMP:20260421T211013Z
SUMMARY:Kindness shirts
URL;VALUE=URI:https://www.lahabraschools.org/sierravista/calendar/6081817/k
 indness-shirts
DTSTART;VALUE=DATE:20260204
DTEND;VALUE=DATE:20260205
END:VEVENT
END:VCALENDAR
