BEGIN:VCALENDAR
VERSION:2.0
PRODID:SchoolNow
CALSCALE:GREGORIAN
BEGIN:VEVENT
UID:8b9bbc6e-4f18-11ef-a3f9-02cd693c455f
DTSTAMP:20260421T211013Z
SUMMARY:Kindness shirts
URL;VALUE=URI:https://www.lahabraschools.org/sierravista/calendar/6333348/k
 indness-shirts
DTSTART;VALUE=DATE:20260225
DTEND;VALUE=DATE:20260226
END:VEVENT
END:VCALENDAR
