BEGIN:VCALENDAR
VERSION:2.0
PRODID:SchoolNow
CALSCALE:GREGORIAN
BEGIN:VEVENT
UID:24ddd11a-669c-11ef-bd49-02e8619e5cd5
DTSTAMP:20260421T150515Z
SUMMARY:Kindness shirts
URL;VALUE=URI:https://www.lahabraschools.org/sierravista/calendar/6486482/k
 indness-shirts
DTSTART;VALUE=DATE:20260429
DTEND;VALUE=DATE:20260430
END:VEVENT
END:VCALENDAR
