BEGIN:VCALENDAR
VERSION:2.0
PRODID:SchoolNow
CALSCALE:GREGORIAN
BEGIN:VEVENT
UID:22d0dc06-956c-11ef-b2bd-0a58a9feac02
DTSTAMP:20260421T211013Z
SUMMARY:Kindness shirts
URL;VALUE=URI:https://www.lahabraschools.org/sierravista/calendar/6915001/k
 indness-shirts
DTSTART;VALUE=DATE:20260624
DTEND;VALUE=DATE:20260625
END:VEVENT
END:VCALENDAR
