BEGIN:VCALENDAR
VERSION:2.0
PRODID:SchoolNow
CALSCALE:GREGORIAN
BEGIN:VEVENT
UID:da0b5f3e-9aff-11ef-aa1f-0a58a9feac02
DTSTAMP:20260421T211013Z
SUMMARY:Kindness shirts
URL;VALUE=URI:https://www.lahabraschools.org/sierravista/calendar/6958841/k
 indness-shirts
DTSTART;VALUE=DATE:20260701
DTEND;VALUE=DATE:20260702
END:VEVENT
END:VCALENDAR
