BEGIN:VCALENDAR
VERSION:2.0
PRODID:SchoolNow
CALSCALE:GREGORIAN
BEGIN:VEVENT
UID:ae0dce10-9e62-11ef-a2c6-0efc7845719b
DTSTAMP:20260421T211013Z
SUMMARY:Kindness shirts
URL;VALUE=URI:https://www.lahabraschools.org/sierravista/calendar/6987099/k
 indness-shirts
DTSTART;VALUE=DATE:20260708
DTEND;VALUE=DATE:20260709
END:VEVENT
END:VCALENDAR
