BEGIN:VCALENDAR
VERSION:2.0
PRODID:SchoolNow
CALSCALE:GREGORIAN
BEGIN:VEVENT
UID:1e1554cc-a957-11ef-a454-0a58a9feac02
DTSTAMP:20260421T211013Z
SUMMARY:Kindness shirts
URL;VALUE=URI:https://www.lahabraschools.org/sierravista/calendar/7066383/k
 indness-shirts
DTSTART;VALUE=DATE:20260722
DTEND;VALUE=DATE:20260723
END:VEVENT
END:VCALENDAR
