BEGIN:VCALENDAR
VERSION:2.0
PRODID:SchoolNow
CALSCALE:GREGORIAN
BEGIN:VEVENT
UID:b24acef0-b1b4-11ef-b7ba-0affc9de0517
DTSTAMP:20260421T211013Z
SUMMARY:Kindness shirts
URL;VALUE=URI:https://www.lahabraschools.org/sierravista/calendar/7115981/k
 indness-shirts
DTSTART;VALUE=DATE:20260729
DTEND;VALUE=DATE:20260730
END:VEVENT
END:VCALENDAR
