BEGIN:VCALENDAR
VERSION:2.0
PRODID:SchoolNow
CALSCALE:GREGORIAN
BEGIN:VEVENT
UID:c38c9eba-b37f-11ef-ac34-0a58a9feac02
DTSTAMP:20260421T211013Z
SUMMARY:Kindness shirts
URL;VALUE=URI:https://www.lahabraschools.org/sierravista/calendar/7128236/k
 indness-shirts
DTSTART;VALUE=DATE:20260805
DTEND;VALUE=DATE:20260806
END:VEVENT
END:VCALENDAR
