BEGIN:VCALENDAR
VERSION:2.0
PRODID:SchoolNow
CALSCALE:GREGORIAN
BEGIN:VEVENT
UID:5c750b96-b847-11ef-b70d-0affdcbc4749
DTSTAMP:20260421T211013Z
SUMMARY:Kindness shirts
URL;VALUE=URI:https://www.lahabraschools.org/sierravista/calendar/7158016/k
 indness-shirts
DTSTART;VALUE=DATE:20260812
DTEND;VALUE=DATE:20260813
END:VEVENT
END:VCALENDAR
