BEGIN:VCALENDAR
VERSION:2.0
PRODID:SchoolNow
CALSCALE:GREGORIAN
BEGIN:VEVENT
UID:c1748ec0-caff-11ef-9d5f-0a58a9feac02
DTSTAMP:20260421T211013Z
SUMMARY:Kindness shirts
URL;VALUE=URI:https://www.lahabraschools.org/sierravista/calendar/7268480/k
 indness-shirts
DTSTART;VALUE=DATE:20260826
DTEND;VALUE=DATE:20260827
END:VEVENT
END:VCALENDAR
