BEGIN:VCALENDAR
VERSION:2.0
PRODID:SchoolNow
CALSCALE:GREGORIAN
BEGIN:VEVENT
UID:c1749398-caff-11ef-b7b8-0a58a9feac02
DTSTAMP:20260422T031512Z
SUMMARY:Kindness shirts
URL;VALUE=URI:https://www.lahabraschools.org/sierravista/calendar/7268481/k
 indness-shirts
DTSTART;VALUE=DATE:20260902
DTEND;VALUE=DATE:20260903
END:VEVENT
END:VCALENDAR
