BEGIN:VCALENDAR
VERSION:2.0
PRODID:SchoolNow
CALSCALE:GREGORIAN
BEGIN:VEVENT
UID:7e8d5272-cffa-11ef-80c2-0e9c70e2561f
DTSTAMP:20260422T031512Z
SUMMARY:Kindness shirts
URL;VALUE=URI:https://www.lahabraschools.org/sierravista/calendar/7298786/k
 indness-shirts
DTSTART;VALUE=DATE:20260909
DTEND;VALUE=DATE:20260910
END:VEVENT
END:VCALENDAR
