BEGIN:VCALENDAR
VERSION:2.0
PRODID:SchoolNow
CALSCALE:GREGORIAN
BEGIN:VEVENT
UID:3f55d7f6-d4c2-11ef-ae74-0a58a9feac02
DTSTAMP:20260422T031512Z
SUMMARY:Kindness shirts
URL;VALUE=URI:https://www.lahabraschools.org/sierravista/calendar/7328553/k
 indness-shirts
DTSTART;VALUE=DATE:20260916
DTEND;VALUE=DATE:20260917
END:VEVENT
END:VCALENDAR
