BEGIN:VCALENDAR
VERSION:2.0
PRODID:SchoolNow
CALSCALE:GREGORIAN
BEGIN:VEVENT
UID:daefcbec-dc86-11ef-9a82-0afffec829f3
DTSTAMP:20260422T031512Z
SUMMARY:Kindness shirts
URL;VALUE=URI:https://www.lahabraschools.org/sierravista/calendar/7378718/k
 indness-shirts
DTSTART;VALUE=DATE:20260923
DTEND;VALUE=DATE:20260924
END:VEVENT
END:VCALENDAR
