BEGIN:VCALENDAR
VERSION:2.0
PRODID:SchoolNow
CALSCALE:GREGORIAN
BEGIN:VEVENT
UID:b6a353d6-df50-11ef-9904-0affd2dde303
DTSTAMP:20260422T031512Z
SUMMARY:Kindness shirts
URL;VALUE=URI:https://www.lahabraschools.org/sierravista/calendar/7398880/k
 indness-shirts
DTSTART;VALUE=DATE:20260930
DTEND;VALUE=DATE:20261001
END:VEVENT
END:VCALENDAR
