BEGIN:VCALENDAR
VERSION:2.0
PRODID:SchoolNow
CALSCALE:GREGORIAN
BEGIN:VEVENT
UID:3767fba4-e913-11ef-b54f-0afff0432423
DTSTAMP:20260422T031512Z
SUMMARY:Kindness shirts
URL;VALUE=URI:https://www.lahabraschools.org/sierravista/calendar/7456594/k
 indness-shirts
DTSTART;VALUE=DATE:20261007
DTEND;VALUE=DATE:20261008
END:VEVENT
END:VCALENDAR
