BEGIN:VCALENDAR
VERSION:2.0
PRODID:SchoolNow
CALSCALE:GREGORIAN
BEGIN:VEVENT
UID:264e7508-ea78-11ef-bdb5-0affde8c3b4d
DTSTAMP:20260422T031512Z
SUMMARY:Kindness shirts
URL;VALUE=URI:https://www.lahabraschools.org/sierravista/calendar/7465383/k
 indness-shirts
DTSTART;VALUE=DATE:20261014
DTEND;VALUE=DATE:20261015
END:VEVENT
END:VCALENDAR
