BEGIN:VCALENDAR
VERSION:2.0
PRODID:SchoolNow
CALSCALE:GREGORIAN
BEGIN:VEVENT
UID:d6986310-f0a4-11ef-9bbf-0a58a9feac02
DTSTAMP:20260422T031512Z
SUMMARY:Kindness shirts
URL;VALUE=URI:https://www.lahabraschools.org/sierravista/calendar/7518299/k
 indness-shirts
DTSTART;VALUE=DATE:20261021
DTEND;VALUE=DATE:20261022
END:VEVENT
END:VCALENDAR
