BEGIN:VCALENDAR
VERSION:2.0
PRODID:SchoolNow
CALSCALE:GREGORIAN
BEGIN:VEVENT
UID:56b5ae60-fa67-11ef-be98-023946a50fdf
DTSTAMP:20260424T100014Z
SUMMARY:Kindness shirts
URL;VALUE=URI:https://www.lahabraschools.org/sierravista/calendar/7613733/k
 indness-shirts
DTSTART;VALUE=DATE:20261104
DTEND;VALUE=DATE:20261105
END:VEVENT
END:VCALENDAR
