BEGIN:VCALENDAR
VERSION:2.0
PRODID:SchoolNow
CALSCALE:GREGORIAN
BEGIN:VEVENT
UID:afa00088-0959-11f0-84f7-0a58a9feac02
DTSTAMP:20260424T100014Z
SUMMARY:Kindness shirts
URL;VALUE=URI:https://www.lahabraschools.org/sierravista/calendar/7767411/k
 indness-shirts
DTSTART;VALUE=DATE:20261118
DTEND;VALUE=DATE:20261119
END:VEVENT
END:VCALENDAR
