BEGIN:VCALENDAR
VERSION:2.0
PRODID:SchoolNow
CALSCALE:GREGORIAN
BEGIN:VEVENT
UID:afa0061e-0959-11f0-b67b-0a58a9feac02
DTSTAMP:20260424T100014Z
SUMMARY:Kindness shirts
URL;VALUE=URI:https://www.lahabraschools.org/sierravista/calendar/7767412/k
 indness-shirts
DTSTART;VALUE=DATE:20261125
DTEND;VALUE=DATE:20261126
END:VEVENT
END:VCALENDAR
