BEGIN:VCALENDAR
VERSION:2.0
PRODID:SchoolNow
CALSCALE:GREGORIAN
BEGIN:VEVENT
UID:49d6df8e-111e-11f0-8d0a-0a58a9feac02
DTSTAMP:20260424T100014Z
SUMMARY:Kindness shirts
URL;VALUE=URI:https://www.lahabraschools.org/sierravista/calendar/7845871/k
 indness-shirts
DTSTART;VALUE=DATE:20261202
DTEND;VALUE=DATE:20261203
END:VEVENT
END:VCALENDAR
