BEGIN:VCALENDAR
VERSION:2.0
PRODID:SchoolNow
CALSCALE:GREGORIAN
BEGIN:VEVENT
UID:86bdc756-200e-11f0-ae19-0272ca1d3a7f
DTSTAMP:20260424T100014Z
SUMMARY:Kindness shirts
URL;VALUE=URI:https://www.lahabraschools.org/sierravista/calendar/7988104/k
 indness-shirts
DTSTART;VALUE=DATE:20261216
DTEND;VALUE=DATE:20261217
END:VEVENT
END:VCALENDAR
