BEGIN:VCALENDAR
VERSION:2.0
PRODID:SchoolNow
CALSCALE:GREGORIAN
BEGIN:VEVENT
UID:86c23d36-200e-11f0-9eb4-0272ca1d3a7f
DTSTAMP:20260424T100014Z
SUMMARY:Kindness shirts
URL;VALUE=URI:https://www.lahabraschools.org/sierravista/calendar/7988105/k
 indness-shirts
DTSTART;VALUE=DATE:20261223
DTEND;VALUE=DATE:20261224
END:VEVENT
END:VCALENDAR
