BEGIN:VCALENDAR
VERSION:2.0
PRODID:SchoolNow
CALSCALE:GREGORIAN
BEGIN:VEVENT
UID:d919f71c-2d66-11f0-bcae-0a58a9feac02
DTSTAMP:20260424T100014Z
SUMMARY:Kindness shirts
URL;VALUE=URI:https://www.lahabraschools.org/sierravista/calendar/8102090/k
 indness-shirts
DTSTART;VALUE=DATE:20261230
DTEND;VALUE=DATE:20261231
END:VEVENT
END:VCALENDAR
