BEGIN:VCALENDAR
VERSION:2.0
PRODID:SchoolNow
CALSCALE:GREGORIAN
BEGIN:VEVENT
UID:d919fe4c-2d66-11f0-9ed3-0a58a9feac02
DTSTAMP:20260424T100014Z
SUMMARY:Kindness shirts
URL;VALUE=URI:https://www.lahabraschools.org/sierravista/calendar/8102091/k
 indness-shirts
DTSTART;VALUE=DATE:20270106
DTEND;VALUE=DATE:20270107
END:VEVENT
END:VCALENDAR
