BEGIN:VCALENDAR
VERSION:2.0
PRODID:SchoolNow
CALSCALE:GREGORIAN
BEGIN:VEVENT
UID:94681df6-467f-11f0-b162-0a58a9feac02
DTSTAMP:20260421T150515Z
SUMMARY:TK-7 Last Day of School
URL;VALUE=URI:https://www.lahabraschools.org/sierravista/calendar/8283808/t
 k-7-last-day-of-school
DTSTART;VALUE=DATE:20260528
DTEND;VALUE=DATE:20260529
END:VEVENT
END:VCALENDAR
