BEGIN:VCALENDAR
VERSION:2.0
PRODID:SchoolNow
CALSCALE:GREGORIAN
BEGIN:VEVENT
UID:94684182-467f-11f0-80c1-0a58a9feac02
DTSTAMP:20260421T150515Z
SUMMARY:Memorial Day
URL;VALUE=URI:https://www.lahabraschools.org/sierravista/calendar/8283809/m
 emorial-day
DTSTART;VALUE=DATE:20260525
DTEND;VALUE=DATE:20260526
END:VEVENT
END:VCALENDAR
