BEGIN:VCALENDAR
VERSION:2.0
PRODID:SchoolNow
CALSCALE:GREGORIAN
BEGIN:VEVENT
UID:94684312-467f-11f0-9ab5-0a58a9feac02
DTSTAMP:20260421T150514Z
SUMMARY:Minimum Day-Report Card Entry
URL;VALUE=URI:https://www.lahabraschools.org/sierravista/calendar/8283810/m
 inimum-day-report-card-entry
DTSTART;VALUE=DATE:20260508
DTEND;VALUE=DATE:20260509
END:VEVENT
END:VCALENDAR
