BEGIN:VCALENDAR
VERSION:2.0
PRODID:SchoolNow
CALSCALE:GREGORIAN
BEGIN:VEVENT
UID:9468443e-467f-11f0-a955-0a58a9feac02
DTSTAMP:20260421T150515Z
SUMMARY:ELPAC testing 2nd-6th -reading/writing/listening
URL;VALUE=URI:https://www.lahabraschools.org/sierravista/calendar/8283811/e
 lpac-testing-2nd-6th-reading-writing-listening
DTSTART;VALUE=DATE:20260407
DTEND;VALUE=DATE:20260411
END:VEVENT
END:VCALENDAR
