BEGIN:VCALENDAR
VERSION:2.0
PRODID:SchoolNow
CALSCALE:GREGORIAN
BEGIN:VEVENT
UID:94684542-467f-11f0-b74c-0a58a9feac02
DTSTAMP:20260421T150515Z
SUMMARY:Professional Development Day- NON student Day
URL;VALUE=URI:https://www.lahabraschools.org/sierravista/calendar/8283812/p
 rofessional-development-day-non-student-day
DTSTART;VALUE=DATE:20260403
DTEND;VALUE=DATE:20260404
END:VEVENT
END:VCALENDAR
