BEGIN:VCALENDAR
VERSION:2.0
PRODID:SchoolNow
CALSCALE:GREGORIAN
BEGIN:VEVENT
UID:94684718-467f-11f0-a220-0a58a9feac02
DTSTAMP:20260421T211013Z
SUMMARY:Summative ELPAC (3rd-8th) Speaking by Assessors
URL;VALUE=URI:https://www.lahabraschools.org/sierravista/calendar/8283814/s
 ummative-elpac-3rd-8th-speaking-by-assessors
DTSTART;VALUE=DATE:20260217
DTEND;VALUE=DATE:20260221
END:VEVENT
END:VCALENDAR
