BEGIN:VCALENDAR
VERSION:2.0
PRODID:SchoolNow
CALSCALE:GREGORIAN
BEGIN:VEVENT
UID:946847fe-467f-11f0-9aad-0a58a9feac02
DTSTAMP:20260421T211013Z
SUMMARY:No School-Washington Day/Presidents Day
URL;VALUE=URI:https://www.lahabraschools.org/sierravista/calendar/8283815/n
 o-school-washington-day-presidents-day
DTSTART;VALUE=DATE:20260216
DTEND;VALUE=DATE:20260217
END:VEVENT
END:VCALENDAR
