BEGIN:VCALENDAR
VERSION:2.0
PRODID:SchoolNow
CALSCALE:GREGORIAN
BEGIN:VEVENT
UID:946848e4-467f-11f0-a916-0a58a9feac02
DTSTAMP:20260421T211013Z
SUMMARY:Elementary Minimum Day-Report Card Entry
URL;VALUE=URI:https://www.lahabraschools.org/sierravista/calendar/8283816/e
 lementary-minimum-day-report-card-entry
DTSTART;VALUE=DATE:20260220
DTEND;VALUE=DATE:20260221
END:VEVENT
END:VCALENDAR
