BEGIN:VCALENDAR
VERSION:2.0
PRODID:SchoolNow
CALSCALE:GREGORIAN
BEGIN:VEVENT
UID:94684b8c-467f-11f0-a7d5-0a58a9feac02
DTSTAMP:20260421T211013Z
SUMMARY:Minimum Day
URL;VALUE=URI:https://www.lahabraschools.org/sierravista/calendar/8283819/m
 inimum-day
DTSTART;VALUE=DATE:20260130
DTEND;VALUE=DATE:20260131
END:VEVENT
END:VCALENDAR
