BEGIN:VCALENDAR
VERSION:2.0
PRODID:SchoolNow
CALSCALE:GREGORIAN
BEGIN:VEVENT
UID:94684d4e-467f-11f0-8080-0a58a9feac02
DTSTAMP:20260421T211013Z
SUMMARY:Professional Development Day
URL;VALUE=URI:https://www.lahabraschools.org/sierravista/calendar/8283821/p
 rofessional-development-day
DTSTART;VALUE=DATE:20260105
DTEND;VALUE=DATE:20260106
END:VEVENT
END:VCALENDAR
