BEGIN:VCALENDAR
VERSION:2.0
PRODID:SchoolNow
CALSCALE:GREGORIAN
BEGIN:VEVENT
UID:94da2e3c-467f-11f0-a582-0a58a9feac02
DTSTAMP:20260421T211013Z
SUMMARY:2nd trimester ends
URL;VALUE=URI:https://www.lahabraschools.org/sierravista/calendar/8283835/2
 nd-trimester-ends
DTSTART;VALUE=DATE:20260220
DTEND;VALUE=DATE:20260221
END:VEVENT
END:VCALENDAR
