BEGIN:VCALENDAR
VERSION:2.0
PRODID:SchoolNow
CALSCALE:GREGORIAN
BEGIN:VEVENT
UID:94da2f2c-467f-11f0-9526-0a58a9feac02
DTSTAMP:20260421T150514Z
SUMMARY:2nd trimester awards assemblies
URL;VALUE=URI:https://www.lahabraschools.org/sierravista/calendar/8283836/2
 nd-trimester-awards-assemblies
DTSTART;VALUE=DATE:20260313
DTEND;VALUE=DATE:20260314
END:VEVENT
END:VCALENDAR
