BEGIN:VCALENDAR
VERSION:2.0
PRODID:SchoolNow
CALSCALE:GREGORIAN
BEGIN:VEVENT
UID:94da3012-467f-11f0-a687-0a58a9feac02
DTSTAMP:20260421T211013Z
SUMMARY:2nd trimester progress reports go home (6th only)
URL;VALUE=URI:https://www.lahabraschools.org/sierravista/calendar/8283837/2
 nd-trimester-progress-reports-go-home-6th-only
DTSTART;VALUE=DATE:20260121
DTEND;VALUE=DATE:20260122
END:VEVENT
END:VCALENDAR
